BEGIN:VCALENDAR
VERSION:2.0
PRODID:-//Neuland21 - ECPv6.15.18//NONSGML v1.0//EN
CALSCALE:GREGORIAN
METHOD:PUBLISH
X-WR-CALNAME:Neuland21
X-ORIGINAL-URL:https://neuland21.de
X-WR-CALDESC:Veranstaltungen für Neuland21
REFRESH-INTERVAL;VALUE=DURATION:PT1H
X-Robots-Tag:noindex
X-PUBLISHED-TTL:PT1H
BEGIN:VTIMEZONE
TZID:Europe/Berlin
BEGIN:DAYLIGHT
TZOFFSETFROM:+0100
TZOFFSETTO:+0200
TZNAME:CEST
DTSTART:20220327T010000
END:DAYLIGHT
BEGIN:STANDARD
TZOFFSETFROM:+0200
TZOFFSETTO:+0100
TZNAME:CET
DTSTART:20221030T010000
END:STANDARD
BEGIN:DAYLIGHT
TZOFFSETFROM:+0100
TZOFFSETTO:+0200
TZNAME:CEST
DTSTART:20230326T010000
END:DAYLIGHT
BEGIN:STANDARD
TZOFFSETFROM:+0200
TZOFFSETTO:+0100
TZNAME:CET
DTSTART:20231029T010000
END:STANDARD
BEGIN:DAYLIGHT
TZOFFSETFROM:+0100
TZOFFSETTO:+0200
TZNAME:CEST
DTSTART:20240331T010000
END:DAYLIGHT
BEGIN:STANDARD
TZOFFSETFROM:+0200
TZOFFSETTO:+0100
TZNAME:CET
DTSTART:20241027T010000
END:STANDARD
END:VTIMEZONE
BEGIN:VEVENT
DTSTART;TZID=Europe/Berlin:20231021T130000
DTEND;TZID=Europe/Berlin:20231021T180000
DTSTAMP:20260422T093803
CREATED:20231011T161822Z
LAST-MODIFIED:20231011T173601Z
UID:13821-1697893200-1697911200@neuland21.de
SUMMARY:MINT-Werkstatttag in der Mitmach-Werkstatt
DESCRIPTION:Liebe Interessierte an digitaler Bildung und der Mitmach-Werkstatt\, \nim Rahmen der Codweek-Germany werden beim MINT-Werkstatttag im Kulturzentrum in Bad Belzig Mitmach-Angebote stattfinden. In Workshops können Baumwollbeutel gestaltet werden\, Malschablonen hergestellt\, und Stecktiere aus Holz mit dem Lasercutter ausgeschnitten. Daneben gibt es 3D-Scan und 3D-Druck\, so dass Besucher*innen Büsten von sich selbst mit nach Hause nehmen können. Außerdem ist das Mobilab vom Wissenschaftsladen-Potsdam vor der Tür geparkt und bietet an\, bunte LEDs zu löten. \nAlle Infos zum Programm und zur Anmeldung findet ihr auf der Webseite der Mitmach-Werkstatt \nWir freuen uns auf Euch!
URL:https://neuland21.de/event/mint-werkstatttag-in-der-mitmach-werkstatt/
LOCATION:STIC Wirtschaftsfördergesellschaft MOL mbH\, Garzauer Chaussee 1a\, Strausberg\, Brandenburg\, 15344\, Deutschland
CATEGORIES:CoderDojo,MINT
ATTACH;FMTTYPE=image/jpeg:https://neuland21.de/wp-content/uploads/2023/10/imgp2508.jpg
END:VEVENT
END:VCALENDAR