BEGIN:VCALENDAR
VERSION:2.0
PRODID:-//Neuland21 - ECPv6.15.18//NONSGML v1.0//EN
CALSCALE:GREGORIAN
METHOD:PUBLISH
X-WR-CALNAME:Neuland21
X-ORIGINAL-URL:https://neuland21.de
X-WR-CALDESC:Veranstaltungen für Neuland21
REFRESH-INTERVAL;VALUE=DURATION:PT1H
X-Robots-Tag:noindex
X-PUBLISHED-TTL:PT1H
BEGIN:VTIMEZONE
TZID:Europe/Berlin
BEGIN:DAYLIGHT
TZOFFSETFROM:+0100
TZOFFSETTO:+0200
TZNAME:CEST
DTSTART:20240331T010000
END:DAYLIGHT
BEGIN:STANDARD
TZOFFSETFROM:+0200
TZOFFSETTO:+0100
TZNAME:CET
DTSTART:20241027T010000
END:STANDARD
BEGIN:DAYLIGHT
TZOFFSETFROM:+0100
TZOFFSETTO:+0200
TZNAME:CEST
DTSTART:20250330T010000
END:DAYLIGHT
BEGIN:STANDARD
TZOFFSETFROM:+0200
TZOFFSETTO:+0100
TZNAME:CET
DTSTART:20251026T010000
END:STANDARD
BEGIN:DAYLIGHT
TZOFFSETFROM:+0100
TZOFFSETTO:+0200
TZNAME:CEST
DTSTART:20260329T010000
END:DAYLIGHT
BEGIN:STANDARD
TZOFFSETFROM:+0200
TZOFFSETTO:+0100
TZNAME:CET
DTSTART:20261025T010000
END:STANDARD
END:VTIMEZONE
BEGIN:VEVENT
DTSTART;TZID=Europe/Berlin:20250613T130000
DTEND;TZID=Europe/Berlin:20250613T150000
DTSTAMP:20260421T174350
CREATED:20250520T151943Z
LAST-MODIFIED:20250520T152127Z
UID:15411-1749819600-1749826800@neuland21.de
SUMMARY:GTA 3D Druck am Gymnasium Franziskaneum in Meißen
DESCRIPTION:Im Rahmen des GTA 3D-Druck unterstützen wir das Gymnasium Franziskaneum Meißen mit unserem Bildungsprogramm Robocode! Gemeinsam entwerfen und konstruieren wir individuelle Geschenkideen und Weihnachtsschmuck\, die anschließend im 3D-Drucker realisiert werden. Von der Idee bis zum fertigen Modell durchlaufen die Teilnehmenden alle Schritte der Konstruktion und lernen die Grundlagen des 3D-Drucks kennen. \nHinweis: \nDiese Veranstaltung ist nicht öffentlich und findet exklusiv im Rahmen des GTA 3D-Druck am Franziskaneum statt. \nKontaktperson für Rückfragen: \nKaya Holzmeyer \nkaya.holzmeyer@neuland21.de \n  \nUrheberrechtshinweis Titelfoto:  \nLars Hübner \n  \n 
URL:https://neuland21.de/event/gta-3d-druck-am-gymnasium-franziskaneum-in-meissen-5/
CATEGORIES:Robocode,Robocode
ATTACH;FMTTYPE=image/jpeg:https://neuland21.de/wp-content/uploads/2023/11/lars-huebner-fotograf-3069.jpg
END:VEVENT
END:VCALENDAR