BEGIN:VCALENDAR
VERSION:2.0
PRODID:-//Neuland21 - ECPv6.15.18//NONSGML v1.0//EN
CALSCALE:GREGORIAN
METHOD:PUBLISH
X-ORIGINAL-URL:https://neuland21.de
X-WR-CALDESC:Veranstaltungen für Neuland21
REFRESH-INTERVAL;VALUE=DURATION:PT1H
X-Robots-Tag:noindex
X-PUBLISHED-TTL:PT1H
BEGIN:VTIMEZONE
TZID:Europe/Berlin
BEGIN:DAYLIGHT
TZOFFSETFROM:+0100
TZOFFSETTO:+0200
TZNAME:CEST
DTSTART:20200329T010000
END:DAYLIGHT
BEGIN:STANDARD
TZOFFSETFROM:+0200
TZOFFSETTO:+0100
TZNAME:CET
DTSTART:20201025T010000
END:STANDARD
BEGIN:DAYLIGHT
TZOFFSETFROM:+0100
TZOFFSETTO:+0200
TZNAME:CEST
DTSTART:20210328T010000
END:DAYLIGHT
BEGIN:STANDARD
TZOFFSETFROM:+0200
TZOFFSETTO:+0100
TZNAME:CET
DTSTART:20211031T010000
END:STANDARD
BEGIN:DAYLIGHT
TZOFFSETFROM:+0100
TZOFFSETTO:+0200
TZNAME:CEST
DTSTART:20220327T010000
END:DAYLIGHT
BEGIN:STANDARD
TZOFFSETFROM:+0200
TZOFFSETTO:+0100
TZNAME:CET
DTSTART:20221030T010000
END:STANDARD
END:VTIMEZONE
BEGIN:VEVENT
DTSTART;TZID=Europe/Berlin:20210323T160000
DTEND;TZID=Europe/Berlin:20210323T180000
DTSTAMP:20260425T161357
CREATED:20210116T193736Z
LAST-MODIFIED:20210116T193736Z
UID:7303-1616515200-1616522400@neuland21.de
SUMMARY:CoderDojo Brandenburg/H.
DESCRIPTION:Im CoderDojo werden Kinder und Jugendliche zwischen 7 und 17 Jahren spielerisch ans Programmieren herangeführt.
URL:https://neuland21.de/event/coderdojo-brandenburg-h-4/
LOCATION:Fouqué-Bibliothek Brandenburg/Havel\, Altstädtischer Markt 8\, Brandenburg an der Havel\, Brandenburg\, 14770\, Deutschland
CATEGORIES:Alles auf offen,CoderDojo
ATTACH;FMTTYPE=:
ORGANIZER;CN="neuland21 | Nicolai":MAILTO:nicolai.hertle@neuland21.de
END:VEVENT
BEGIN:VEVENT
DTSTART;TZID=Europe/Berlin:20210323T180000
DTEND;TZID=Europe/Berlin:20210323T210000
DTSTAMP:20260425T161357
CREATED:20210212T113817Z
LAST-MODIFIED:20210212T113817Z
UID:7755-1616522400-1616533200@neuland21.de
SUMMARY:OK Lab Fläming
DESCRIPTION:Der Digitaltreff in analoger Form. Wer Spaß daran hat\, daten- und digitalbasierte gemeinwohlorientierte Projekte umzusetzen\, ist herzlich Willkommen.\nBei Fragen wendet euch an den Leiter des OK Labs Fläming Martin Koll. \nDas OK Lab Fläming startet um 18:00. Die Treffen finden weiterhin via Videokonferenz statt bis wir in den 2D-Ratssaal umziehen.\nDer Link ist: https://bbb.ulm.dev/b/oklabflaeming \nBitte nutzt für die BigBlueButton Videosoftware einen aktuellen Chromebrowser (oder Chromium) und ein Headset. Für technische Fragen sprecht mich gerne an.
URL:https://neuland21.de/event/ok-lab-flaeming-6/
LOCATION:online
CATEGORIES:Alles auf offen
END:VEVENT
END:VCALENDAR